BEGIN:VCALENDAR
VERSION:2.0
PRODID:-//uwlamoille.org//NONSGML kigkonsult.se iCalcreator 2.30.10//
CALSCALE:GREGORIAN
METHOD:PUBLISH
UID:f14ec00c-6c5c-4e8f-96de-cc33462f4014
X-WR-CALDESC:
X-WR-RELCALID:d4746d33f072dc3b5a2b70e943280caf
X-WR-TIMEZONE:America/New_York
BEGIN:VTIMEZONE
TZID:America/New_York
BEGIN:STANDARD
TZNAME:EST
DTSTART:20241103T020000
TZOFFSETFROM:-0400
TZOFFSETTO:-0500
RDATE:20251102T020000
RDATE:20261101T020000
END:STANDARD
BEGIN:DAYLIGHT
TZNAME:EDT
DTSTART:20250309T020000
TZOFFSETFROM:-0500
TZOFFSETTO:-0400
RDATE:20260308T020000
RDATE:20270314T020000
END:DAYLIGHT
END:VTIMEZONE
BEGIN:VEVENT
UID:16727d0d-8e06-488c-8077-d510e56e9b64
DTSTAMP:20260419T145745Z
DESCRIPTION:
DTSTART;TZID=America/New_York:20250920T080000
DTEND;TZID=America/New_York:20250920T120000
LOCATION:595 Bridge St.\, Morrisville\, VT 05661 US
SUMMARY:Firewood Project Volunteer Day\, Delivery Day
END:VEVENT
END:VCALENDAR
